2.43840000000000
0.00000000000000
0.00000000000000
-2.43840000000000
468820.25540100003000
4635751.78805399970000
