2.43840000000000
-0.00000000000000
-0.00000000000000
-2.43840000000000
479215.27973799995000
4635714.22045500020000
