2.43840000000000
-0.00000000000000
-0.00000000000000
-2.43840000000000
489607.60827100003000
4635692.27485500000000
